BEGIN:VCALENDAR
VERSION:2.0
PRODID:-//Berryhill Family Vineyards - ECPv6.15.20//NONSGML v1.0//EN
CALSCALE:GREGORIAN
METHOD:PUBLISH
X-ORIGINAL-URL:https://berry.ursa6.com
X-WR-CALDESC:Events for Berryhill Family Vineyards
REFRESH-INTERVAL;VALUE=DURATION:PT1H
X-Robots-Tag:noindex
X-PUBLISHED-TTL:PT1H
BEGIN:VTIMEZONE
TZID:America/Los_Angeles
BEGIN:DAYLIGHT
TZOFFSETFROM:-0800
TZOFFSETTO:-0700
TZNAME:PDT
DTSTART:20250309T100000
END:DAYLIGHT
BEGIN:STANDARD
TZOFFSETFROM:-0700
TZOFFSETTO:-0800
TZNAME:PST
DTSTART:20251102T090000
END:STANDARD
BEGIN:DAYLIGHT
TZOFFSETFROM:-0800
TZOFFSETTO:-0700
TZNAME:PDT
DTSTART:20260308T100000
END:DAYLIGHT
BEGIN:STANDARD
TZOFFSETFROM:-0700
TZOFFSETTO:-0800
TZNAME:PST
DTSTART:20261101T090000
END:STANDARD
BEGIN:DAYLIGHT
TZOFFSETFROM:-0800
TZOFFSETTO:-0700
TZNAME:PDT
DTSTART:20270314T100000
END:DAYLIGHT
BEGIN:STANDARD
TZOFFSETFROM:-0700
TZOFFSETTO:-0800
TZNAME:PST
DTSTART:20271107T090000
END:STANDARD
END:VTIMEZONE
BEGIN:VEVENT
DTSTART;TZID=America/Los_Angeles:20260421T080000
DTEND;TZID=America/Los_Angeles:20260421T170000
DTSTAMP:20260424T014141
CREATED:20260421T195153Z
LAST-MODIFIED:20260421T195154Z
UID:2281-1776758400-1776790800@berry.ursa6.com
SUMMARY:Sample Event Only
DESCRIPTION:
URL:https://berry.ursa6.com/event/sample-event-only/
ATTACH;FMTTYPE=image/jpeg:https://berry.ursa6.com/wp-content/uploads/2026/04/IMG_3504-1024x768-1.jpg
END:VEVENT
END:VCALENDAR